BEGIN:VCALENDAR
VERSION:2.0
PRODID:spatie/icalendar-generator
DESCRIPTION:ワナ WANA クリニックのイベント
X-WR-CALDESC:ワナ WANA クリニックのイベント
REFRESH-INTERVAL;VALUE=DURATION:PT1440M
X-PUBLISHED-TTL:PT1440M
BEGIN:VTIMEZONE
TZID:Asia/Tokyo
BEGIN:STANDARD
DTSTART:20241212T133000Z
TZOFFSETFROM:+0900
TZOFFSETTO:+0900
END:STANDARD
END:VTIMEZONE
BEGIN:VTIMEZONE
TZID:UTC
BEGIN:STANDARD
DTSTART:20250725T140048Z
TZOFFSETFROM:+0000
TZOFFSETTO:+0000
END:STANDARD
END:VTIMEZONE
BEGIN:VEVENT
UID:18887-1852
DTSTAMP:20260421T140048Z
SUMMARY:SSTG
LOCATION:
ORGANIZER;CN=wanastaff:MAILTO:wa@wanaclinic.or.jp
RRULE:FREQ=WEEKLY;UNTIL=20330905T000000Z
DTSTART;TZID=Asia/Tokyo:20250908T133000
DTEND;TZID=Asia/Tokyo:20250908T133000
X-ALT-DESC;FMTTYPE=TEXT/HTML:コミュニケーションを学ぼう
CATEGORIES:closed
URL;VALUE=URI:https://wanaclinic.org/wp1/?mc-events=sstg-6&amp;mc_id=18887
METHOD:PUBLISH
END:VEVENT
END:VCALENDAR