BEGIN:VCALENDAR
VERSION:2.0
PRODID:spatie/icalendar-generator
DESCRIPTION:ワナ WANA クリニックのイベント
X-WR-CALDESC:ワナ WANA クリニックのイベント
REFRESH-INTERVAL;VALUE=DURATION:PT1440M
X-PUBLISHED-TTL:PT1440M
BEGIN:VTIMEZONE
TZID:Asia/Tokyo
BEGIN:STANDARD
DTSTART:20241205T133000Z
TZOFFSETFROM:+0900
TZOFFSETTO:+0900
END:STANDARD
END:VTIMEZONE
BEGIN:VTIMEZONE
TZID:UTC
BEGIN:STANDARD
DTSTART:20250726T011621Z
TZOFFSETFROM:+0000
TZOFFSETTO:+0000
END:STANDARD
END:VTIMEZONE
BEGIN:VEVENT
UID:17847-1851
DTSTAMP:20260422T011621Z
SUMMARY:SSTG
LOCATION:
ORGANIZER;CN=wanastaff:MAILTO:wa@wanaclinic.or.jp
DTSTART;TZID=Asia/Tokyo:20250901T133000
DTEND;TZID=Asia/Tokyo:20250901T143000
X-ALT-DESC;FMTTYPE=TEXT/HTML:コミュニケーションを学ぼう
CATEGORIES:closed
URL;VALUE=URI:https://wanaclinic.org/wp1/?mc-events=sstg-5
METHOD:PUBLISH
END:VEVENT
END:VCALENDAR