BEGIN:VCALENDAR
VERSION:2.0
PRODID:spatie/icalendar-generator
DESCRIPTION:ワナ WANA クリニックのイベント
X-WR-CALDESC:ワナ WANA クリニックのイベント
REFRESH-INTERVAL;VALUE=DURATION:PT1440M
X-PUBLISHED-TTL:PT1440M
BEGIN:VTIMEZONE
TZID:Asia/Tokyo
BEGIN:STANDARD
DTSTART:20241107T133000Z
TZOFFSETFROM:+0900
TZOFFSETTO:+0900
END:STANDARD
END:VTIMEZONE
BEGIN:VTIMEZONE
TZID:UTC
BEGIN:STANDARD
DTSTART:20250727T092241Z
TZOFFSETFROM:+0000
TZOFFSETTO:+0000
END:STANDARD
END:VTIMEZONE
BEGIN:VEVENT
UID:17839-1843
DTSTAMP:20260423T092241Z
SUMMARY:PCKGお休み
LOCATION:
ORGANIZER;CN=wanastaff:MAILTO:wa@wanaclinic.or.jp
DTSTART;TZID=Asia/Tokyo:20250804T133000
DTEND;TZID=Asia/Tokyo:20250804T150000
X-ALT-DESC;FMTTYPE=TEXT/HTML:親と子の関係を考える会
CATEGORIES:General
URL;VALUE=URI:https://wanaclinic.org/wp1/?mc-events=pckg%e3%81%8a%e4%bc%91%
 e3%81%bf-5
METHOD:PUBLISH
END:VEVENT
END:VCALENDAR