BEGIN:VCALENDAR
VERSION:2.0
PRODID:spatie/icalendar-generator
DESCRIPTION:ワナ WANA クリニックのイベント
X-WR-CALDESC:ワナ WANA クリニックのイベント
REFRESH-INTERVAL;VALUE=DURATION:PT1440M
X-PUBLISHED-TTL:PT1440M
BEGIN:VTIMEZONE
TZID:Asia/Tokyo
BEGIN:STANDARD
DTSTART:20240116T100000Z
TZOFFSETFROM:+0900
TZOFFSETTO:+0900
END:STANDARD
END:VTIMEZONE
BEGIN:VTIMEZONE
TZID:UTC
BEGIN:STANDARD
DTSTART:20250726T183239Z
TZOFFSETFROM:+0000
TZOFFSETTO:+0000
END:STANDARD
END:VTIMEZONE
BEGIN:VEVENT
UID:16788-1733
DTSTAMP:20260422T183239Z
SUMMARY:ONEDAYリプロセス・リトリートワーク
LOCATION:
ORGANIZER;CN=wanastaff:MAILTO:wa@wanaclinic.or.jp
DTSTART;TZID=Asia/Tokyo:20241012T100000
DTEND;TZID=Asia/Tokyo:20241012T170000
X-ALT-DESC;FMTTYPE=TEXT/HTML:場所　東北会病院　４F 時間　１
 ０：００～１７：００ 費用　￥12000 申込の際は主治医
 ・担当カウンセラーと&amp;hellip\;
CATEGORIES:closed
URL;VALUE=URI:https://wanaclinic.org/wp1/?mc-events=oneday%e3%83%aa%e3%83%9
 7%e3%83%ad%e3%82%bb%e3%82%b9%e3%83%bb%e3%83%aa%e3%83%88%e3%83%aa%e3%83%bc%
 e3%83%88%e3%83%af%e3%83%bc%e3%82%af
METHOD:PUBLISH
END:VEVENT
END:VCALENDAR