BEGIN:VCALENDAR
VERSION:2.0
PRODID:spatie/icalendar-generator
DESCRIPTION:ワナ WANA クリニックのイベント
X-WR-CALDESC:ワナ WANA クリニックのイベント
REFRESH-INTERVAL;VALUE=DURATION:PT1440M
X-PUBLISHED-TTL:PT1440M
BEGIN:VTIMEZONE
TZID:Asia/Tokyo
BEGIN:STANDARD
DTSTART:20251014T100000Z
TZOFFSETFROM:+0900
TZOFFSETTO:+0900
END:STANDARD
END:VTIMEZONE
BEGIN:VTIMEZONE
TZID:UTC
BEGIN:STANDARD
DTSTART:20250729T032547Z
TZOFFSETFROM:+0000
TZOFFSETTO:+0000
END:STANDARD
END:VTIMEZONE
BEGIN:VEVENT
UID:19400-1938
DTSTAMP:20260425T032547Z
SUMMARY:ONE DAYリプロセスリトリート®ワーク
LOCATION:
ORGANIZER;CN=wanastaff:MAILTO:wa@wanaclinic.or.jp
DTSTART;TZID=Asia/Tokyo:20260711T100000
DTEND;TZID=Asia/Tokyo:20260711T170000
X-ALT-DESC;FMTTYPE=TEXT/HTML:リプロセスワーク
CATEGORIES:closed
URL;VALUE=URI:https://wanaclinic.org/wp1/?mc-events=one-day%e3%83%aa%e3%83%
 97%e3%83%ad%e3%82%bb%e3%82%b9%e3%83%aa%e3%83%88%e3%83%aa%e3%83%bc%e3%83%88
 %e3%83%af%e3%83%bc%e3%82%af-2
METHOD:PUBLISH
END:VEVENT
END:VCALENDAR