BEGIN:VCALENDAR
VERSION:2.0
PRODID:spatie/icalendar-generator
DESCRIPTION:ワナ WANA クリニックのイベント
X-WR-CALDESC:ワナ WANA クリニックのイベント
REFRESH-INTERVAL;VALUE=DURATION:PT1440M
X-PUBLISHED-TTL:PT1440M
BEGIN:VTIMEZONE
TZID:Asia/Tokyo
BEGIN:STANDARD
DTSTART:20241217T100000Z
TZOFFSETFROM:+0900
TZOFFSETTO:+0900
END:STANDARD
END:VTIMEZONE
BEGIN:VTIMEZONE
TZID:UTC
BEGIN:STANDARD
DTSTART:20250725T221714Z
TZOFFSETFROM:+0000
TZOFFSETTO:+0000
END:STANDARD
END:VTIMEZONE
BEGIN:VEVENT
UID:17844-1848
DTSTAMP:20260421T221714Z
SUMMARY:OG②
LOCATION:
ORGANIZER;CN=wanastaff:MAILTO:wa@wanaclinic.or.jp
DTSTART;TZID=Asia/Tokyo:20250913T100000
DTEND;TZID=Asia/Tokyo:20250913T123000
X-ALT-DESC;FMTTYPE=TEXT/HTML:心の病の治療と回復につて
CATEGORIES:closed
URL;VALUE=URI:https://wanaclinic.org/wp1/?mc-events=og%e2%91%a1-12
METHOD:PUBLISH
END:VEVENT
END:VCALENDAR