BEGIN:VCALENDAR
VERSION:2.0
PRODID:spatie/icalendar-generator
DESCRIPTION:ワナ WANA クリニックのイベント
X-WR-CALDESC:ワナ WANA クリニックのイベント
REFRESH-INTERVAL;VALUE=DURATION:PT1440M
X-PUBLISHED-TTL:PT1440M
BEGIN:VTIMEZONE
TZID:Asia/Tokyo
BEGIN:STANDARD
DTSTART:20250708T100000Z
TZOFFSETFROM:+0900
TZOFFSETTO:+0900
END:STANDARD
END:VTIMEZONE
BEGIN:VTIMEZONE
TZID:UTC
BEGIN:STANDARD
DTSTART:20250725T122952Z
TZOFFSETFROM:+0000
TZOFFSETTO:+0000
END:STANDARD
END:VTIMEZONE
BEGIN:VEVENT
UID:19384-1923
DTSTAMP:20260421T122952Z
SUMMARY:OG①
LOCATION:
ORGANIZER;CN=wanastaff:MAILTO:wa@wanaclinic.or.jp
DTSTART;TZID=Asia/Tokyo:20260404T100000
DTEND;TZID=Asia/Tokyo:20260404T123000
X-ALT-DESC;FMTTYPE=TEXT/HTML:ストレスと心の病について
CATEGORIES:closed
URL;VALUE=URI:https://wanaclinic.org/wp1/?mc-events=og%e2%91%a0-31
METHOD:PUBLISH
END:VEVENT
END:VCALENDAR