BEGIN:VCALENDAR
VERSION:2.0
PRODID:spatie/icalendar-generator
DESCRIPTION:ワナ WANA クリニックのイベント
X-WR-CALDESC:ワナ WANA クリニックのイベント
REFRESH-INTERVAL;VALUE=DURATION:PT1440M
X-PUBLISHED-TTL:PT1440M
BEGIN:VTIMEZONE
TZID:Asia/Tokyo
BEGIN:STANDARD
DTSTART:20231109T100000Z
TZOFFSETFROM:+0900
TZOFFSETTO:+0900
END:STANDARD
END:VTIMEZONE
BEGIN:VTIMEZONE
TZID:UTC
BEGIN:STANDARD
DTSTART:20250728T001724Z
TZOFFSETFROM:+0000
TZOFFSETTO:+0000
END:STANDARD
END:VTIMEZONE
BEGIN:VEVENT
UID:15946-1717
DTSTAMP:20260424T001724Z
SUMMARY:FG休み
LOCATION:
ORGANIZER;CN=wanastaff:MAILTO:wa@wanaclinic.or.jp
DTSTART;TZID=Asia/Tokyo:20240805T100000
DTEND;TZID=Asia/Tokyo:20240805T113000
X-ALT-DESC;FMTTYPE=TEXT/HTML:女性グループ
CATEGORIES:General
URL;VALUE=URI:https://wanaclinic.org/wp1/?mc-events=fg%e4%bc%91%e3%81%bf
METHOD:PUBLISH
END:VEVENT
END:VCALENDAR