BEGIN:VCALENDAR
VERSION:2.0
PRODID:spatie/icalendar-generator
DESCRIPTION:ワナ WANA クリニックのイベント
X-WR-CALDESC:ワナ WANA クリニックのイベント
REFRESH-INTERVAL;VALUE=DURATION:PT1440M
X-PUBLISHED-TTL:PT1440M
BEGIN:VTIMEZONE
TZID:Asia/Tokyo
BEGIN:STANDARD
DTSTART:20240310T183000Z
TZOFFSETFROM:+0900
TZOFFSETTO:+0900
END:STANDARD
END:VTIMEZONE
BEGIN:VTIMEZONE
TZID:UTC
BEGIN:STANDARD
DTSTART:20250725T140211Z
TZOFFSETFROM:+0000
TZOFFSETTO:+0000
END:STANDARD
END:VTIMEZONE
BEGIN:VEVENT
UID:17453-1773
DTSTAMP:20260421T140211Z
SUMMARY:ACG
LOCATION:
ORGANIZER;CN=wanastaff:MAILTO:wa@wanaclinic.or.jp
RRULE:FREQ=WEEKLY;UNTIL=20301226T000000Z
DTSTART;TZID=Asia/Tokyo:20241205T183000
DTEND;TZID=Asia/Tokyo:20241205T200000
X-ALT-DESC;FMTTYPE=TEXT/HTML:ACグループ １８：３０～２０：０
 ０
CATEGORIES:closed
URL;VALUE=URI:https://wanaclinic.org/wp1/?mc-events=acg-8&amp;mc_id=17453
METHOD:PUBLISH
END:VEVENT
END:VCALENDAR