BEGIN:VCALENDAR
VERSION:2.0
PRODID:spatie/icalendar-generator
DESCRIPTION:ワナ WANA クリニックのイベント
X-WR-CALDESC:ワナ WANA クリニックのイベント
REFRESH-INTERVAL;VALUE=DURATION:PT1440M
X-PUBLISHED-TTL:PT1440M
BEGIN:VTIMEZONE
TZID:Asia/Tokyo
BEGIN:STANDARD
DTSTART:20240128T183000Z
TZOFFSETFROM:+0900
TZOFFSETTO:+0900
END:STANDARD
END:VTIMEZONE
BEGIN:VTIMEZONE
TZID:UTC
BEGIN:STANDARD
DTSTART:20250726T122743Z
TZOFFSETFROM:+0000
TZOFFSETTO:+0000
END:STANDARD
END:VTIMEZONE
BEGIN:VEVENT
UID:11441-1740
DTSTAMP:20260422T122743Z
SUMMARY:ACG休み
LOCATION:
ORGANIZER;CN=wanastaff:MAILTO:wa@wanaclinic.or.jp
DTSTART;TZID=Asia/Tokyo:20241024T183000
DTEND;TZID=Asia/Tokyo:20241024T200000
X-ALT-DESC;FMTTYPE=TEXT/HTML:
CATEGORIES:General,  closed
URL;VALUE=URI:https://wanaclinic.org/wp1/?mc-events=acg%e4%bc%91%e3%81%bf-4
METHOD:PUBLISH
END:VEVENT
END:VCALENDAR