BEGIN:VCALENDAR
VERSION:2.0
PRODID:spatie/icalendar-generator
DESCRIPTION:ワナ WANA クリニックのイベント
X-WR-CALDESC:ワナ WANA クリニックのイベント
REFRESH-INTERVAL;VALUE=DURATION:PT1440M
X-PUBLISHED-TTL:PT1440M
BEGIN:VTIMEZONE
TZID:Asia/Tokyo
BEGIN:STANDARD
DTSTART:20240102T100000Z
TZOFFSETFROM:+0900
TZOFFSETTO:+0900
END:STANDARD
END:VTIMEZONE
BEGIN:VTIMEZONE
TZID:UTC
BEGIN:STANDARD
DTSTART:20250726T233915Z
TZOFFSETFROM:+0000
TZOFFSETTO:+0000
END:STANDARD
END:VTIMEZONE
BEGIN:VEVENT
UID:16782-1727
DTSTAMP:20260422T233915Z
SUMMARY:ＯG②③
LOCATION:
ORGANIZER;CN=wanastaff:MAILTO:wa@wanaclinic.or.jp
DTSTART;TZID=Asia/Tokyo:20240928T100000
DTEND;TZID=Asia/Tokyo:20240928T123000
X-ALT-DESC;FMTTYPE=TEXT/HTML:心の病と家族について 心の病の治
 療と回復について
CATEGORIES:closed
URL;VALUE=URI:https://wanaclinic.org/wp1/?mc-events=%ef%bd%8fg%e2%91%a1%e2%
 91%a2-2
METHOD:PUBLISH
END:VEVENT
END:VCALENDAR