BEGIN:VCALENDAR
VERSION:2.0
PRODID:spatie/icalendar-generator
DESCRIPTION:ワナ WANA クリニックのイベント
X-WR-CALDESC:ワナ WANA クリニックのイベント
REFRESH-INTERVAL;VALUE=DURATION:PT1440M
X-PUBLISHED-TTL:PT1440M
BEGIN:VTIMEZONE
TZID:Asia/Tokyo
BEGIN:STANDARD
DTSTART:20240229T100000Z
TZOFFSETFROM:+0900
TZOFFSETTO:+0900
END:STANDARD
END:VTIMEZONE
BEGIN:VTIMEZONE
TZID:UTC
BEGIN:STANDARD
DTSTART:20250725T213811Z
TZOFFSETFROM:+0000
TZOFFSETTO:+0000
END:STANDARD
END:VTIMEZONE
BEGIN:VEVENT
UID:13143-1735
DTSTAMP:20260421T213811Z
SUMMARY:ＦＧお休み
LOCATION:
ORGANIZER;CN=wanastaff:MAILTO:wa@wanaclinic.or.jp
DTSTART;TZID=Asia/Tokyo:20241125T100000
DTEND;TZID=Asia/Tokyo:20241125T113000
X-ALT-DESC;FMTTYPE=TEXT/HTML:女性グループ 毎週月曜10時から11
 時30分 &amp;nbsp\;
CATEGORIES:General
URL;VALUE=URI:https://wanaclinic.org/wp1/?mc-events=%ef%bd%86%ef%bd%87%e3%8
 1%8a%e4%bc%91%e3%81%bf-7
METHOD:PUBLISH
END:VEVENT
END:VCALENDAR