BEGIN:VCALENDAR
VERSION:2.0
PRODID:spatie/icalendar-generator
DESCRIPTION:ワナ WANA クリニックのイベント
X-WR-CALDESC:ワナ WANA クリニックのイベント
REFRESH-INTERVAL;VALUE=DURATION:PT1440M
X-PUBLISHED-TTL:PT1440M
BEGIN:VTIMEZONE
TZID:Asia/Tokyo
BEGIN:STANDARD
DTSTART:20250406T000000Z
TZOFFSETFROM:+0900
TZOFFSETTO:+0900
END:STANDARD
END:VTIMEZONE
BEGIN:VTIMEZONE
TZID:UTC
BEGIN:STANDARD
DTSTART:20250730T021844Z
TZOFFSETFROM:+0000
TZOFFSETTO:+0000
END:STANDARD
END:VTIMEZONE
BEGIN:VEVENT
UID:19350-1795
DTSTAMP:20260426T021844Z
SUMMARY:休診日（元旦）
LOCATION:
ORGANIZER;CN=wanastaff:MAILTO:wa@wanaclinic.or.jp
DTSTART;TZID=Asia/Tokyo;VALUE=DATE:20260101
DTEND;TZID=Asia/Tokyo;VALUE=DATE:20260102
X-ALT-DESC;FMTTYPE=TEXT/HTML:元旦
CATEGORIES:Holiday
URL;VALUE=URI:https://wanaclinic.org/wp1/?mc-events=%e4%bc%91%e8%a8%ba%e6%9
 7%a5%ef%bc%88%e5%85%83%e6%97%a6%ef%bc%89
METHOD:PUBLISH
END:VEVENT
END:VCALENDAR