BEGIN:VCALENDAR
VERSION:2.0
PRODID:spatie/icalendar-generator
DESCRIPTION:ワナ WANA クリニックのイベント
X-WR-CALDESC:ワナ WANA クリニックのイベント
REFRESH-INTERVAL;VALUE=DURATION:PT1440M
X-PUBLISHED-TTL:PT1440M
BEGIN:VTIMEZONE
TZID:Asia/Tokyo
BEGIN:STANDARD
DTSTART:20250405T000000Z
TZOFFSETFROM:+0900
TZOFFSETTO:+0900
END:STANDARD
END:VTIMEZONE
BEGIN:VTIMEZONE
TZID:UTC
BEGIN:STANDARD
DTSTART:20250730T040116Z
TZOFFSETFROM:+0000
TZOFFSETTO:+0000
END:STANDARD
END:VTIMEZONE
BEGIN:VEVENT
UID:19349-1887
DTSTAMP:20260426T040116Z
SUMMARY:休診日(年末年始休日）
LOCATION:
ORGANIZER;CN=wanastaff:MAILTO:wa@wanaclinic.or.jp
DTSTART;TZID=Asia/Tokyo;VALUE=DATE:20251231
DTEND;TZID=Asia/Tokyo;VALUE=DATE:20260101
X-ALT-DESC;FMTTYPE=TEXT/HTML:
CATEGORIES:closed
URL;VALUE=URI:https://wanaclinic.org/wp1/?mc-events=%e4%bc%91%e8%a8%ba%e6%9
 7%a5%e5%b9%b4%e6%9c%ab%e5%b9%b4%e5%a7%8b%e4%bc%91%e6%97%a5%ef%bc%89-3
METHOD:PUBLISH
END:VEVENT
END:VCALENDAR