BEGIN:VCALENDAR
VERSION:2.0
PRODID:spatie/icalendar-generator
DESCRIPTION:ワナ WANA クリニックのイベント
X-WR-CALDESC:ワナ WANA クリニックのイベント
REFRESH-INTERVAL;VALUE=DURATION:PT1440M
X-PUBLISHED-TTL:PT1440M
BEGIN:VTIMEZONE
TZID:Asia/Tokyo
BEGIN:STANDARD
DTSTART:20241015T100000Z
TZOFFSETFROM:+0900
TZOFFSETTO:+0900
END:STANDARD
END:VTIMEZONE
BEGIN:VTIMEZONE
TZID:UTC
BEGIN:STANDARD
DTSTART:20250726T152830Z
TZOFFSETFROM:+0000
TZOFFSETTO:+0000
END:STANDARD
END:VTIMEZONE
BEGIN:VEVENT
UID:17829-1833
DTSTAMP:20260422T152830Z
SUMMARY:リプロセス・リトリート®ONE DAYワーク
LOCATION:
ORGANIZER;CN=wanastaff:MAILTO:wa@wanaclinic.or.jp
DTSTART;TZID=Asia/Tokyo:20250712T100000
DTEND;TZID=Asia/Tokyo:20250712T170000
X-ALT-DESC;FMTTYPE=TEXT/HTML:リプロセスワーク
CATEGORIES:closed
URL;VALUE=URI:https://wanaclinic.org/wp1/?mc-events=%e3%83%aa%e3%83%97%e3%8
 3%ad%e3%82%bb%e3%82%b9%e3%83%bb%e3%83%aa%e3%83%88%e3%83%aa%e3%83%bc%e3%83%
 88one-day%e3%83%af%e3%83%bc%e3%82%af-3
METHOD:PUBLISH
END:VEVENT
END:VCALENDAR