BEGIN:VCALENDAR
VERSION:2.0
PRODID:spatie/icalendar-generator
DESCRIPTION:ワナ WANA クリニックのイベント
X-WR-CALDESC:ワナ WANA クリニックのイベント
REFRESH-INTERVAL;VALUE=DURATION:PT1440M
X-PUBLISHED-TTL:PT1440M
BEGIN:VTIMEZONE
TZID:Asia/Tokyo
BEGIN:STANDARD
DTSTART:20240311T190000Z
TZOFFSETFROM:+0900
TZOFFSETTO:+0900
END:STANDARD
END:VTIMEZONE
BEGIN:VTIMEZONE
TZID:UTC
BEGIN:STANDARD
DTSTART:20250725T142226Z
TZOFFSETFROM:+0000
TZOFFSETTO:+0000
END:STANDARD
END:VTIMEZONE
BEGIN:VEVENT
UID:17242-1772
DTSTAMP:20260421T142226Z
SUMMARY:グループ「獏」
LOCATION:
ORGANIZER;CN=wanastaff:MAILTO:wa@wanaclinic.or.jp
RRULE:FREQ=WEEKLY;UNTIL=20281222T000000Z
DTSTART;TZID=Asia/Tokyo:20241206T190000
DTEND;TZID=Asia/Tokyo:20241206T203000
X-ALT-DESC;FMTTYPE=TEXT/HTML:男性グループ
CATEGORIES:closed
URL;VALUE=URI:https://wanaclinic.org/wp1/?mc-events=%E3%82%B0%E3%83%AB%E3%8
 3%BC%E3%83%97%E3%80%8C%E7%8D%8F%E3%80%8D-2&amp;mc_id=17242
METHOD:PUBLISH
END:VEVENT
END:VCALENDAR