BEGIN:VCALENDAR
VERSION:2.0
PRODID:spatie/icalendar-generator
DESCRIPTION:ワナ WANA クリニックのイベント
X-WR-CALDESC:ワナ WANA クリニックのイベント
REFRESH-INTERVAL;VALUE=DURATION:PT1440M
X-PUBLISHED-TTL:PT1440M
BEGIN:VTIMEZONE
TZID:Asia/Tokyo
BEGIN:STANDARD
DTSTART:20241021T190000Z
TZOFFSETFROM:+0900
TZOFFSETTO:+0900
END:STANDARD
END:VTIMEZONE
BEGIN:VTIMEZONE
TZID:UTC
BEGIN:STANDARD
DTSTART:20250726T191558Z
TZOFFSETFROM:+0000
TZOFFSETTO:+0000
END:STANDARD
END:VTIMEZONE
BEGIN:VEVENT
UID:17841-1845
DTSTAMP:20260422T191558Z
SUMMARY:グループ「獏」お休み
LOCATION:
ORGANIZER;CN=wanastaff:MAILTO:wa@wanaclinic.or.jp
DTSTART;TZID=Asia/Tokyo:20250718T190000
DTEND;TZID=Asia/Tokyo:20250718T203000
X-ALT-DESC;FMTTYPE=TEXT/HTML:
CATEGORIES:General
URL;VALUE=URI:https://wanaclinic.org/wp1/?mc-events=%e3%82%b0%e3%83%ab%e3%8
 3%bc%e3%83%97%e3%80%8c%e7%8d%8f%e3%80%8d%e3%81%8a%e4%bc%91%e3%81%bf-2
METHOD:PUBLISH
END:VEVENT
END:VCALENDAR