BEGIN:VCALENDAR
VERSION:2.0
PRODID:spatie/icalendar-generator
DESCRIPTION:ワナ WANA クリニックのイベント
X-WR-CALDESC:ワナ WANA クリニックのイベント
REFRESH-INTERVAL;VALUE=DURATION:PT1440M
X-PUBLISHED-TTL:PT1440M
BEGIN:VTIMEZONE
TZID:Asia/Tokyo
BEGIN:STANDARD
DTSTART:20240326T133000Z
TZOFFSETFROM:+0900
TZOFFSETTO:+0900
END:STANDARD
END:VTIMEZONE
BEGIN:VTIMEZONE
TZID:UTC
BEGIN:STANDARD
DTSTART:20250726T094749Z
TZOFFSETFROM:+0000
TZOFFSETTO:+0000
END:STANDARD
END:VTIMEZONE
BEGIN:VEVENT
UID:15923-1694
DTSTAMP:20260422T094749Z
SUMMARY:オンラインはるえさんワーク（本人）
LOCATION:
ORGANIZER;CN=wanastaff:MAILTO:wa@wanaclinic.or.jp
DTSTART;TZID=Asia/Tokyo:20241221T133000
DTEND;TZID=Asia/Tokyo:20241221T150000
X-ALT-DESC;FMTTYPE=TEXT/HTML:オンラインでのワークとなります
 。 事前にご予約願います。
CATEGORIES:closed
URL;VALUE=URI:https://wanaclinic.org/wp1/?mc-events=%e3%82%aa%e3%83%b3%e3%8
 3%a9%e3%82%a4%e3%83%b3%e3%81%af%e3%82%8b%e3%81%88%e3%81%95%e3%82%93%e3%83%
 af%e3%83%bc%e3%82%af%ef%bc%88%e6%9c%ac%e4%ba%ba%ef%bc%89-8
METHOD:PUBLISH
END:VEVENT
END:VCALENDAR